BEGIN:VCALENDAR
VERSION:2.0
PRODID:CitylightCMS
CALSCALE:GREGORIAN
BEGIN:VEVENT
UID:70efdf2ec9b086079795c442636b55fb
DTSTAMP:20260422T130346Z
SUMMARY:March Stakeholder Meeting | Feedback Roundables
DESCRIPTION:Details at https://southparkclt.org/meeting/march-stakeholder-meeting-feedback-roundables
LOCATION:SouthPark Church (4th Floor), 
3151 Apex Dr Suite 100, 
Charlotte, NC 28211
URL:https://southparkclt.org/meeting/march-stakeholder-meeting-feedback-roundables
DTSTART;TZID="/America/New_York":20260324T083000
DTEND;TZID="/America/New_York":20260324T100000
END:VEVENT
END:VCALENDAR