BEGIN:VCALENDAR
VERSION:2.0
PRODID:CitylightCMS
CALSCALE:GREGORIAN
BEGIN:VEVENT
UID:6f4922f45568161a8cdf4ad2299f6d23
DTSTAMP:20260424T152440Z
SUMMARY:May Stakeholder Meeting | Employee Recruitment and Retention
DESCRIPTION:Details at https://southparkclt.org/meeting/may-stakeholder-meeting-employee-recruitment-and-retention
LOCATION:Anne Neilson Fine Art, 
721 Gov Morrison St, Suite 180, 
Charlotte, NC 28211
URL:https://southparkclt.org/meeting/may-stakeholder-meeting-employee-recruitment-and-retention
DTSTART;TZID="/America/New_York":20260521T083000
DTEND;TZID="/America/New_York":20260521T100000
END:VEVENT
END:VCALENDAR